BEGIN:VCALENDAR
VERSION:2.0
PRODID:-//AI and Faith - ECPv6.15.20//NONSGML v1.0//EN
CALSCALE:GREGORIAN
METHOD:PUBLISH
X-WR-CALNAME:AI and Faith
X-ORIGINAL-URL:https://aiandfaith.org
X-WR-CALDESC:Events for AI and Faith
REFRESH-INTERVAL;VALUE=DURATION:PT1H
X-Robots-Tag:noindex
X-PUBLISHED-TTL:PT1H
BEGIN:VTIMEZONE
TZID:America/Los_Angeles
BEGIN:DAYLIGHT
TZOFFSETFROM:-0800
TZOFFSETTO:-0700
TZNAME:PDT
DTSTART:20240310T100000
END:DAYLIGHT
BEGIN:STANDARD
TZOFFSETFROM:-0700
TZOFFSETTO:-0800
TZNAME:PST
DTSTART:20241103T090000
END:STANDARD
BEGIN:DAYLIGHT
TZOFFSETFROM:-0800
TZOFFSETTO:-0700
TZNAME:PDT
DTSTART:20250309T100000
END:DAYLIGHT
BEGIN:STANDARD
TZOFFSETFROM:-0700
TZOFFSETTO:-0800
TZNAME:PST
DTSTART:20251102T090000
END:STANDARD
BEGIN:DAYLIGHT
TZOFFSETFROM:-0800
TZOFFSETTO:-0700
TZNAME:PDT
DTSTART:20260308T100000
END:DAYLIGHT
BEGIN:STANDARD
TZOFFSETFROM:-0700
TZOFFSETTO:-0800
TZNAME:PST
DTSTART:20261101T090000
END:STANDARD
END:VTIMEZONE
BEGIN:VEVENT
DTSTART;TZID=America/Los_Angeles:20251202T090000
DTEND;TZID=America/Los_Angeles:20251202T100000
DTSTAMP:20260422T141543
CREATED:20251114T203425Z
LAST-MODIFIED:20251114T205949Z
UID:9176-1764666000-1764669600@aiandfaith.org
SUMMARY:Internal Event - Beyond the Factory: Rethinking Our Industrial Mindset for a Sustainable Future
DESCRIPTION:Join us for a stimulating discussion that navigates the urgent intersection of Sustainability\, Urban Planning\, and the fundamental need to shift the pervasive Industrial Mindset of our current era. \nThis December\, AI and Faith’s Salon will host John O’Keefe\, who will share with us how the industrial model\, built on linear resource consumption\, has shaped our cities and strained our planet. But what comes next? This salon challenges the foundations of constant growth and explores how we can move towards regenerative systems and smarter\, resilient urban environments. \nIn this special segment\, we’ll delve into John’s fascinating project: “Terraforming Iowa”.” \nMeet the speakers: \nDr. John J. O’Keefe is currently Ph.D. Director at Xavier University. He also worked at Creighton University\, where he served for many years as a member of the theology faculty and as Chair of the department. His academic research has focused on the history and theology of ancient Christianity\, especially in the area of ancient Christian biblical interpretation. He is currently interested in ecological theology and efforts to put ancient wisdom in dialogue with the critical needs of the world. \nInterviewer: Pablo Ruz Salmones is a Mexican polymath. He is the founder and CEO of X eleva Group\, a leading Artificial Intelligence development firm in Mexico. He is also a pianist and composer\, having performed on stages in Mexico\, New Zealand\, and the United States. Pablo contributes regularly to various media outlets in Mexico and around the world\, and has delivered lectures on AI\, Ethics\, Art\, and other topics for renowned companies\, universities\, and research institutes in several countries He has published articles in international academic journals on Education for Sustainable Development\, in collaboration with researchers from Humboldt University in Berlin. In his free time\, he practices Kung Fu at the Shaolin Temple of Mexico.
URL:https://aiandfaith.org/event/rethinking-industrial-mindset-for-a-sustainable-future/
LOCATION:Online
CATEGORIES:Internal Events
ATTACH;FMTTYPE=image/webp:https://aiandfaith.org/wp-content/uploads/2025/11/AIF-SOCIALS-December-SALON_result.webp
END:VEVENT
END:VCALENDAR