BEGIN:VCALENDAR
VERSION:2.0
PRODID:-//AI and Faith - ECPv6.15.20//NONSGML v1.0//EN
CALSCALE:GREGORIAN
METHOD:PUBLISH
X-ORIGINAL-URL:https://aiandfaith.org
X-WR-CALDESC:Events for AI and Faith
REFRESH-INTERVAL;VALUE=DURATION:PT1H
X-Robots-Tag:noindex
X-PUBLISHED-TTL:PT1H
BEGIN:VTIMEZONE
TZID:America/New_York
BEGIN:DAYLIGHT
TZOFFSETFROM:-0500
TZOFFSETTO:-0400
TZNAME:EDT
DTSTART:20240310T070000
END:DAYLIGHT
BEGIN:STANDARD
TZOFFSETFROM:-0400
TZOFFSETTO:-0500
TZNAME:EST
DTSTART:20241103T060000
END:STANDARD
BEGIN:DAYLIGHT
TZOFFSETFROM:-0500
TZOFFSETTO:-0400
TZNAME:EDT
DTSTART:20250309T070000
END:DAYLIGHT
BEGIN:STANDARD
TZOFFSETFROM:-0400
TZOFFSETTO:-0500
TZNAME:EST
DTSTART:20251102T060000
END:STANDARD
BEGIN:DAYLIGHT
TZOFFSETFROM:-0500
TZOFFSETTO:-0400
TZNAME:EDT
DTSTART:20260308T070000
END:DAYLIGHT
BEGIN:STANDARD
TZOFFSETFROM:-0400
TZOFFSETTO:-0500
TZNAME:EST
DTSTART:20261101T060000
END:STANDARD
END:VTIMEZONE
BEGIN:VTIMEZONE
TZID:America/Los_Angeles
BEGIN:DAYLIGHT
TZOFFSETFROM:-0800
TZOFFSETTO:-0700
TZNAME:PDT
DTSTART:20240310T100000
END:DAYLIGHT
BEGIN:STANDARD
TZOFFSETFROM:-0700
TZOFFSETTO:-0800
TZNAME:PST
DTSTART:20241103T090000
END:STANDARD
BEGIN:DAYLIGHT
TZOFFSETFROM:-0800
TZOFFSETTO:-0700
TZNAME:PDT
DTSTART:20250309T100000
END:DAYLIGHT
BEGIN:STANDARD
TZOFFSETFROM:-0700
TZOFFSETTO:-0800
TZNAME:PST
DTSTART:20251102T090000
END:STANDARD
BEGIN:DAYLIGHT
TZOFFSETFROM:-0800
TZOFFSETTO:-0700
TZNAME:PDT
DTSTART:20260308T100000
END:DAYLIGHT
BEGIN:STANDARD
TZOFFSETFROM:-0700
TZOFFSETTO:-0800
TZNAME:PST
DTSTART:20261101T090000
END:STANDARD
BEGIN:DAYLIGHT
TZOFFSETFROM:-0800
TZOFFSETTO:-0700
TZNAME:PDT
DTSTART:20270314T100000
END:DAYLIGHT
BEGIN:STANDARD
TZOFFSETFROM:-0700
TZOFFSETTO:-0800
TZNAME:PST
DTSTART:20271107T090000
END:STANDARD
END:VTIMEZONE
BEGIN:VEVENT
DTSTART;VALUE=DATE:20251027
DTEND;VALUE=DATE:20251101
DTSTAMP:20260424T114343
CREATED:20251015T190952Z
LAST-MODIFIED:20251016T170919Z
UID:9107-1761523200-1761955199@aiandfaith.org
SUMMARY:World Evangelical Alliance General Assembly 2025
DESCRIPTION:The World Evangelical Alliance (WEA) is delighted to announce the 2025 General Assembly\, taking place in Seoul\, South Korea from October 27 to 31\, 2025. \nThis momentous event will bring together evangelical leaders\, national alliance representatives\, and partners from across the globe to unite under the theme: “The Gospel for Everyone by 2033” \nAI&F will be represented by 15 speakers from six countries in a special 7-hour drill down track on wisely stewarding AI in missional engagement around human dignity and relationships\, disruption of work and the environment\, and with trust and accountability. \nRead more here: https://gospelforeveryone.worldea.org/ \nSee information on how AI & Faith will participate here: https://aiandfaith.org/wea-2025/
URL:https://aiandfaith.org/event/wea-2025/
LOCATION:Seoul\, South Korea
CATEGORIES:External Events
ATTACH;FMTTYPE=image/webp:https://aiandfaith.org/wp-content/uploads/2025/10/LOGO-Seoul-World-Evangelical-Alliance-WEA-General-Assembly-2025_result.webp
END:VEVENT
BEGIN:VEVENT
DTSTART;TZID=America/Los_Angeles:20251122T190000
DTEND;TZID=America/Los_Angeles:20251122T220000
DTSTAMP:20260424T114343
CREATED:20251017T231206Z
LAST-MODIFIED:20251017T231255Z
UID:9119-1763838000-1763848800@aiandfaith.org
SUMMARY:AI and Faith at AAR/SBL Religion and Science Reception
DESCRIPTION:AI and Faith is excited to meet at SBL/AAR in Boston! Whether you are one of our experts or have never met up with us before\, we hope to see you there; please come by and say hello!
URL:https://aiandfaith.org/event/ai-and-faith-at-aar-sbl/
CATEGORIES:External Events
END:VEVENT
BEGIN:VEVENT
DTSTART;TZID=America/Los_Angeles:20251202T090000
DTEND;TZID=America/Los_Angeles:20251202T100000
DTSTAMP:20260424T114343
CREATED:20251114T203425Z
LAST-MODIFIED:20251114T205949Z
UID:9176-1764666000-1764669600@aiandfaith.org
SUMMARY:Internal Event - Beyond the Factory: Rethinking Our Industrial Mindset for a Sustainable Future
DESCRIPTION:Join us for a stimulating discussion that navigates the urgent intersection of Sustainability\, Urban Planning\, and the fundamental need to shift the pervasive Industrial Mindset of our current era. \nThis December\, AI and Faith’s Salon will host John O’Keefe\, who will share with us how the industrial model\, built on linear resource consumption\, has shaped our cities and strained our planet. But what comes next? This salon challenges the foundations of constant growth and explores how we can move towards regenerative systems and smarter\, resilient urban environments. \nIn this special segment\, we’ll delve into John’s fascinating project: “Terraforming Iowa”.” \nMeet the speakers: \nDr. John J. O’Keefe is currently Ph.D. Director at Xavier University. He also worked at Creighton University\, where he served for many years as a member of the theology faculty and as Chair of the department. His academic research has focused on the history and theology of ancient Christianity\, especially in the area of ancient Christian biblical interpretation. He is currently interested in ecological theology and efforts to put ancient wisdom in dialogue with the critical needs of the world. \nInterviewer: Pablo Ruz Salmones is a Mexican polymath. He is the founder and CEO of X eleva Group\, a leading Artificial Intelligence development firm in Mexico. He is also a pianist and composer\, having performed on stages in Mexico\, New Zealand\, and the United States. Pablo contributes regularly to various media outlets in Mexico and around the world\, and has delivered lectures on AI\, Ethics\, Art\, and other topics for renowned companies\, universities\, and research institutes in several countries He has published articles in international academic journals on Education for Sustainable Development\, in collaboration with researchers from Humboldt University in Berlin. In his free time\, he practices Kung Fu at the Shaolin Temple of Mexico.
URL:https://aiandfaith.org/event/rethinking-industrial-mindset-for-a-sustainable-future/
LOCATION:Online
CATEGORIES:Internal Events
ATTACH;FMTTYPE=image/webp:https://aiandfaith.org/wp-content/uploads/2025/11/AIF-SOCIALS-December-SALON_result.webp
END:VEVENT
BEGIN:VEVENT
DTSTART;TZID=America/Los_Angeles:20260128T080000
DTEND;TZID=America/Los_Angeles:20260128T090000
DTSTAMP:20260424T114343
CREATED:20251124T193544Z
LAST-MODIFIED:20251203T210201Z
UID:9223-1769587200-1769590800@aiandfaith.org
SUMMARY:Internal Event - AI and Faith: Looking Forward
DESCRIPTION:Join us for an engaging AI and Faith town hall led by our executive director Greg Cootsona. As we step into 2026\, Greg will share insights from his first 100 days and outline key strategic directions for the coming year\, growing out of discussions with the board of directors and Strategy Advisory Team. This session will also include interactive break-out discussions. Discover how we’re building on past achievements as we move forward together—bringing the wisdom of the great spiritual traditions to the fast-paced\, emerging technologies of AI. \n 
URL:https://aiandfaith.org/event/ai-and-faith-looking-forward/
LOCATION:Online
CATEGORIES:Internal Events
ATTACH;FMTTYPE=image/webp:https://aiandfaith.org/wp-content/uploads/2025/11/AIF-SOCIALS-January-Town-Hall_result.webp
END:VEVENT
BEGIN:VEVENT
DTSTART;TZID=America/Los_Angeles:20260225T090000
DTEND;TZID=America/Los_Angeles:20260225T100000
DTSTAMP:20260424T114343
CREATED:20260113T182151Z
LAST-MODIFIED:20260113T182151Z
UID:9314-1772010000-1772013600@aiandfaith.org
SUMMARY:Internal Event - Teaching AI to Care: Prioritizing Wisdom and Compassion over Raw Intelligence
DESCRIPTION:What if the key to safe AI and AGI isn’t making it smarter\, but making it wiser? AI and Faith Research Fellow Mark Graves discusses his approach to AI development that prioritizes practical wisdom and compassion over raw intelligence. We explore how ancient philosophical traditions from Aristotle to Buddhism could guide the next generation of AI systems\, and why suffering should be central to AI ethics. Moreover\, how can we embed said wisdom and compassion in AI systems? How can we measure it? Additionally\, we’ll also explore how healthcare applications are already demonstrating what compassionate AI looks like in practice. This conversation challenges conventional thinking about AI safety and offers a surprisingly hopeful vision for human-AI collaboration. \n 
URL:https://aiandfaith.org/event/internal-event-teaching-ai-to-care/
LOCATION:Online
CATEGORIES:Internal Events
ATTACH;FMTTYPE=image/webp:https://aiandfaith.org/wp-content/uploads/2026/01/AIF-SOCIALS-February-Event_result.webp
END:VEVENT
BEGIN:VEVENT
DTSTART;VALUE=DATE:20260311
DTEND;VALUE=DATE:20260312
DTSTAMP:20260424T114343
CREATED:20260304T182459Z
LAST-MODIFIED:20260304T182459Z
UID:9461-1773187200-1773273599@aiandfaith.org
SUMMARY:AI x Summit | University of Wisconsin\, Madison
DESCRIPTION:Join us for a day of conversation at the intersection of artificial intelligence\, responsibility\, and faith. Todd Korpi\, author of AI Goes to Church\, leads a practical exploration of how AI can serve ministry while helping leaders navigate technology responsibly and faithfully. Next\, a public panel organized by the University of Wisconsin–Madison’s Center for Humanistic Inquiry into AI and Uncertainty features UW faculty examining not just what AI can do\, but what it should do\, and how communities can shape its influence with insight\, care\, and awareness. The day concludes with an evening of exploration into the profound questions at the heart of today’s AI revolution with theologian and computer scientist Noreen Herzfeld\, drawing from her acclaimed book The Artifice of Intelligence — examining how artificial intelligence challenges our understanding of human uniqueness\, the image of God\, and what it means to love our neighbors in an increasingly digital world. Greg Cootsona\, Executive Director of AI and Faith\, will join Herzfeld in conversation following her presentation. \nMore information here: https://isthmus.com/events/ai-x-summit/ 
URL:https://aiandfaith.org/event/ai-x-summit-university-of-wisconsin-madison/
CATEGORIES:External Events
END:VEVENT
BEGIN:VEVENT
DTSTART;TZID=America/Los_Angeles:20260318T080000
DTEND;TZID=America/Los_Angeles:20260318T090000
DTSTAMP:20260424T114343
CREATED:20260220T203553Z
LAST-MODIFIED:20260302T174426Z
UID:9437-1773820800-1773824400@aiandfaith.org
SUMMARY:Internal Event - Salon with Glen Weyl
DESCRIPTION:Join us for our next salon on Wed\, March 18 at 8am to hear Pablo Ruz Salmones interview Glen Weyl. \n\n\n\n\nE. Glen Weyl is Founder and Research Lead at Microsoft Research’s Plural Technology Collaboratory\, Co-Founder and Chair of the Plurality Institute\, Co-Founder and Chair of RadicalxChange Foundation and Co-Founder of the Faith\, Family and Technology Network. Weyl collaborates closely with leading technology figures like Audrey Tang\, Jaron Lanier\, and Vitalik Buterin. He co-authored the influential book Radical Markets\, the widely-read paper “Decentralized Society” and the first democratically self-governed and fully open source book ⿻數位Plurality. Recognized as a leading thinker by WIRED and Bloomberg and as a Peacebuilder by the International Religious Freedom Secretariat\, Weyl graduated as Valedictorian from Princeton in 2007 and earned his PhD in economics from Princeton in 2008.
URL:https://aiandfaith.org/event/internal-event-with-glen-weyl/
LOCATION:Online
CATEGORIES:Internal Events
ATTACH;FMTTYPE=image/webp:https://aiandfaith.org/wp-content/uploads/2026/02/AIF-SOCIALS-March-Event-1_result.webp
END:VEVENT
BEGIN:VEVENT
DTSTART;TZID=America/Los_Angeles:20260410T090000
DTEND;TZID=America/Los_Angeles:20260410T130000
DTSTAMP:20260424T114343
CREATED:20260302T184019Z
LAST-MODIFIED:20260302T184019Z
UID:9457-1775811600-1775826000@aiandfaith.org
SUMMARY:Roundtable on AI Ethics\, Discernment\, and the Common Good
DESCRIPTION:AI and Faith is co-sponsoring an in-person roundtable at University of San Francisco’s Lane Center for Catholic Social Thought and the Ignatian Tradition. The roundtable on “AI Ethics\, Discernment\, and the Common Good” brings together presenters and discussants from University of San Francisco\, other Jesuit and SF Bay Area institutions\, and AI and Faith to explore how AI can be shaped toward the common good and how discernment can guide our engagement with emerging technologies.
URL:https://aiandfaith.org/event/roundtable-on-ai-ethics-discernment-and-the-common-good/
CATEGORIES:External Events
ATTACH;FMTTYPE=image/webp:https://aiandfaith.org/wp-content/uploads/2026/03/AIF-Socials-Roundtable-on-AI-Ethics-Discernment-and-the-Common-Good_result.webp
END:VEVENT
BEGIN:VEVENT
DTSTART;TZID=America/Los_Angeles:20260413T090000
DTEND;TZID=America/Los_Angeles:20260413T100000
DTSTAMP:20260424T114343
CREATED:20260218T225912Z
LAST-MODIFIED:20260406T180813Z
UID:9430-1776070800-1776074400@aiandfaith.org
SUMMARY:Internal Event - Town Hall with Elaine Howard Ecklund
DESCRIPTION:AI and Faith’s Town Hall on April 13 welcomes sociologist and director of the Boniuk Institute for Religious Tolerance at Rice University\, Elaine Howard Ecklund for a conversation about her new book Working for Better\, moderated by AI and Faith’s Executive Director Greg Cootsona. Together they’ll explore how religious faith shapes the meaning\, ethics\, and daily practice of work—especially in fast-moving\, high-stakes technology fields. The discussion will focus on what faith-informed vocation can look like for people building\, deploying\, or navigating AI in today’s workplaces. \n\n 
URL:https://aiandfaith.org/event/town-hall-with-elaine-howard-ecklund/
LOCATION:Online
CATEGORIES:Internal Events
ATTACH;FMTTYPE=image/webp:https://aiandfaith.org/wp-content/uploads/2026/02/AIF-SOCIALS-April-event-2_result.webp
END:VEVENT
BEGIN:VEVENT
DTSTART;TZID=America/Los_Angeles:20260519T090000
DTEND;TZID=America/Los_Angeles:20260519T100000
DTSTAMP:20260424T114343
CREATED:20260406T181338Z
LAST-MODIFIED:20260406T181749Z
UID:9534-1779181200-1779184800@aiandfaith.org
SUMMARY:Internal Event - Town Hall with Timothy Dalrymple and Kenneth Cukier
DESCRIPTION:In AI and Faith’s May Town Hall\, Kenneth Cukier will interview Timothy Dalrymple\, president of the John Templeton Foundation. \n 
URL:https://aiandfaith.org/event/town-hall-with-timothy-dalrymple-and-kenneth-cukier/
LOCATION:Online
CATEGORIES:Internal Events
ATTACH;FMTTYPE=image/webp:https://aiandfaith.org/wp-content/uploads/2026/04/AIF-SOCIALS-May-Event_result.webp
END:VEVENT
BEGIN:VEVENT
DTSTART;TZID=America/Los_Angeles:20260618T090000
DTEND;TZID=America/Los_Angeles:20260618T100000
DTSTAMP:20260424T114343
CREATED:20260410T204708Z
LAST-MODIFIED:20260410T204708Z
UID:9538-1781773200-1781776800@aiandfaith.org
SUMMARY:Internal Event - AI and Jurisprudence: An Islamic Perspective
DESCRIPTION:In AI and Faith’s June Salon\, Pablo A. Ruz Salmones will interview Dr. Salah Dandan on the topic “AI and Jurisprudence: An Islamic Perspective”.  \n\nMeet the speaker: \nDr. Salah Dandan is an attorney and business executive with extensive experience in international business transactions\, technology\, and intellectual property.  Salah is also an Associate Professor of Law at Kuwaiti International Law School where he teaches Intellectual Property and is a Research Fellow focused on AI Ethics.  Salah is the Secretary and a member of the Board of Directors at the Muslim Association of Puget Sound (MAPS). \n\n 
URL:https://aiandfaith.org/event/ai-and-jurisprudence-an-islamic-perspective/
LOCATION:Online
CATEGORIES:Internal Events
ATTACH;FMTTYPE=image/webp:https://aiandfaith.org/wp-content/uploads/2026/04/AIF-SOCIALS-June-salon_result.webp
END:VEVENT
BEGIN:VEVENT
DTSTART;VALUE=DATE:20260711
DTEND;VALUE=DATE:20260712
DTSTAMP:20260424T114343
CREATED:20260320T194810Z
LAST-MODIFIED:20260320T194810Z
UID:9521-1783728000-1783814399@aiandfaith.org
SUMMARY:Ignatian Discernment over AI Relationships: From Agentic Assistants and Companions to Virtual Friends and Romantic Partners
DESCRIPTION:Ignatian Discernment over AI Relationships: From Agentic Assistants and Companions to Virtual Friends and Romantic Partners\nGonzaga University\, Florence Campus\nFlorence\, Italy\nSaturday July 11\, 2026 \nContact admin@aiandfaith.org for more information.
URL:https://aiandfaith.org/event/agentic-assistants-and-companions-to-virtual-friends-and-romantic-partners/
LOCATION:Italy
CATEGORIES:External Events
END:VEVENT
BEGIN:VEVENT
DTSTART;VALUE=DATE:20261008
DTEND;VALUE=DATE:20261011
DTSTAMP:20260424T114343
CREATED:20251114T212113Z
LAST-MODIFIED:20251114T212213Z
UID:9180-1791417600-1791676799@aiandfaith.org
SUMMARY:Wisdom in the Age of AI Conference 2026
DESCRIPTION:Discerning Faithful and Responsible Use of AI in Education\, Church\, Business\, Health Care\, STEM\, and the Arts\n\nHosted by Calvin University\, the Wisdom in the Age of AI Conference\, Thursday\, October 8 – Saturday\, October 10\, 2026\, brings together leading voices at the intersection of technology and Christian thought. This premier event features keynote speakers\, dynamic panel discussions\, and six focused tracks exploring the role of artificial intelligence in education\, church\, business\, healthcare\, the arts\, and technology. \nJoin top Christian thinkers\, practitioners\, and the broader public as we explore how faith can shape the responsible development and use of AI\, while advancing human flourishing and contributing to shalom. \n\nCall for Papers\nThe call for papers is open until March 2\, 2026. \nMore information at https://calvin.edu/faith-and-technology/faith-and-ai-conference
URL:https://aiandfaith.org/event/wisdom-in-the-age-of-ai-conference-2026/
LOCATION:Grand Rapids\, Michigan\, United States
CATEGORIES:External Events
ATTACH;FMTTYPE=image/webp:https://aiandfaith.org/wp-content/uploads/2025/11/calvin-university-logo_result-e1763155325851.webp
END:VEVENT
END:VCALENDAR