BEGIN:VCALENDAR
VERSION:2.0
PRODID:-//AI and Faith - ECPv6.15.20//NONSGML v1.0//EN
CALSCALE:GREGORIAN
METHOD:PUBLISH
X-WR-CALNAME:AI and Faith
X-ORIGINAL-URL:https://aiandfaith.org
X-WR-CALDESC:Events for AI and Faith
REFRESH-INTERVAL;VALUE=DURATION:PT1H
X-Robots-Tag:noindex
X-PUBLISHED-TTL:PT1H
BEGIN:VTIMEZONE
TZID:America/Los_Angeles
BEGIN:DAYLIGHT
TZOFFSETFROM:-0800
TZOFFSETTO:-0700
TZNAME:PDT
DTSTART:20220313T100000
END:DAYLIGHT
BEGIN:STANDARD
TZOFFSETFROM:-0700
TZOFFSETTO:-0800
TZNAME:PST
DTSTART:20221106T090000
END:STANDARD
BEGIN:DAYLIGHT
TZOFFSETFROM:-0800
TZOFFSETTO:-0700
TZNAME:PDT
DTSTART:20230312T100000
END:DAYLIGHT
BEGIN:STANDARD
TZOFFSETFROM:-0700
TZOFFSETTO:-0800
TZNAME:PST
DTSTART:20231105T090000
END:STANDARD
BEGIN:DAYLIGHT
TZOFFSETFROM:-0800
TZOFFSETTO:-0700
TZNAME:PDT
DTSTART:20240310T100000
END:DAYLIGHT
BEGIN:STANDARD
TZOFFSETFROM:-0700
TZOFFSETTO:-0800
TZNAME:PST
DTSTART:20241103T090000
END:STANDARD
BEGIN:DAYLIGHT
TZOFFSETFROM:-0800
TZOFFSETTO:-0700
TZNAME:PDT
DTSTART:20250309T100000
END:DAYLIGHT
BEGIN:STANDARD
TZOFFSETFROM:-0700
TZOFFSETTO:-0800
TZNAME:PST
DTSTART:20251102T090000
END:STANDARD
END:VTIMEZONE
BEGIN:VEVENT
DTSTART;TZID=America/Los_Angeles:20240222T100000
DTEND;TZID=America/Los_Angeles:20240222T110000
DTSTAMP:20260422T124411
CREATED:20241013T182607Z
LAST-MODIFIED:20241114T180300Z
UID:8069-1708596000-1708599600@aiandfaith.org
SUMMARY:AI Unleashed - Virtual Event with Joshua Swamidass
DESCRIPTION:Join us on Thursday\, February 22nd for our Virtual Event: AI Unleashed hosted by Joshua Swamidass. During this Zoom event\, Swamidass will cover the following topics related to the emerging AI technology: \nEthical concerns:\n– Do you need to cite Chat-GPT in your next journal article?\n– If you wipe your hard drive\, could you be violating AI’s right to life?\nJob displacement:\n– Software; data entry; technical writing; market research: who will be AI’s next victim in the job sector? \nSecurity and privacy:\n– Has AI eliminated our privacy?\n– What if AI got access to nuclear launch codes? \nExistential risks\n– Will AI outlast humanity?\n– Could AI be the key to humanity’s next step in evolution? \nPhilosophical questions and more:\n– What does it mean to be human?\n– Is the AI craze overblown? \nRegister for this free event here: http://tinyurl.com/AI-Unleashed \nYou can find more details in the Facebook event: https://www.facebook.com/events/746579473791497
URL:https://aiandfaith.org/event/ai-unleashed-virtual-event-with-joshua-swamidass/
LOCATION:Online
CATEGORIES:External Events
END:VEVENT
BEGIN:VEVENT
DTSTART;TZID=America/Los_Angeles:20240124T080000
DTEND;TZID=America/Los_Angeles:20240124T090000
DTSTAMP:20260422T124411
CREATED:20241013T182958Z
LAST-MODIFIED:20241127T172026Z
UID:8072-1706083200-1706086800@aiandfaith.org
SUMMARY:Internal Event - AI\, and the Church: How The Vatican is Engaging the AI Revolution
DESCRIPTION:Click here to listen to the podcast from this event. \nWe cordially invite you to participate in an intellectually stimulating dialogue with Bishop Paul Tighe of the Dicastery for Culture and Education at the Vatican\, concerning the active role the Vatican plays in the contemporary AI revolution\, including the latest book from the Dicastery’s AI Research Group\, Encountering Artificial Intelligence. This discussion will delve into how the Church engages the global Catholic community in response to these technological innovations. We will also explore the collaborative efforts between the Church\, international institutions\, and other religious entities. \nMoreover\, our exploration will focus on elucidating how the teachings of the Church can offer valuable guidance to a broad spectrum of individuals\, encompassing scientists\, technology entrepreneurs\, policymakers\, and\, of equal significance\, the congregations in various countries. As we collectively confront the challenges presented by the new era of artificial intelligence\, it is essential to underscore the importance of the Catholic Church’s teachings and guidance for the diverse congregations on Earth. This dialogue is committed to addressing some of the most formidable questions raised by AI\, with particular emphasis on the inquiry into the unique qualities that define us as human beings.
URL:https://aiandfaith.org/event/ai-and-faith-town-hall-ai-and-the-church-how-the-vatican-is-engaging-the-ai-revolution/
CATEGORIES:Internal Events
ATTACH;FMTTYPE=image/jpeg:https://aiandfaith.org/wp-content/uploads/2024/01/FINAL-EDIT-.jpg
END:VEVENT
BEGIN:VEVENT
DTSTART;VALUE=DATE:20240112
DTEND;VALUE=DATE:20240127
DTSTAMP:20260422T124411
CREATED:20241013T183419Z
LAST-MODIFIED:20241119T021822Z
UID:8074-1705017600-1706313599@aiandfaith.org
SUMMARY:AI for Pastors Course
DESCRIPTION:Contributing Fellow Rev. Dr. Daren Erisman will teach a three-week course on “AI for Pastors” where pastors and other ministry leaders will learn how to use AI tools in their ministry. \nMore information about the January 2024 course can be found at the registration page.
URL:https://aiandfaith.org/event/ai-for-pastors-course/
CATEGORIES:External Events
END:VEVENT
BEGIN:VEVENT
DTSTART;TZID=America/Los_Angeles:20231228T090000
DTEND;TZID=America/Los_Angeles:20231228T103000
DTSTAMP:20260422T124411
CREATED:20241013T183127Z
LAST-MODIFIED:20241114T180047Z
UID:8073-1703754000-1703759400@aiandfaith.org
SUMMARY:Lightning talks: AI in charity and health care
DESCRIPTION:An insightful online collaboration by Effective Altruism for Christians and AI and Faith\, featuring dynamic lightning talks and discussion on the impactful intersection of AI\, charity\, and healthcare. \nAI & Faith is a community of experts that brings the wisdom of the world’s great religions to the discussion around the moral and ethical challenges of artificial intelligence (AI)\, equipping both technology creators and religious leaders to help navigate these global changes. \nEffective Altruism for Christians is a global community of Christians committed to serving others as well as possible\, equipping Christians to be better stewards of their key resources of money\, time\, and influence.
URL:https://aiandfaith.org/event/lightning-talks-ai-in-charity-and-health-care/
LOCATION:Online
CATEGORIES:Internal Events
ATTACH;FMTTYPE=image/png:https://aiandfaith.org/wp-content/uploads/2023/11/AI-lightning-talks-cover-updated27919.png
END:VEVENT
END:VCALENDAR